BEGIN:VCALENDAR
VERSION:2.0
PRODID:-//ChamberMaster//Event Calendar 2.0//EN
METHOD:PUBLISH
X-PUBLISHED-TTL:P1H
REFRESH-INTERVAL:P1H
CALSCALE:GREGORIAN
BEGIN:VTIMEZONE
TZID:America/Chicago
BEGIN:DAYLIGHT
RRULE:FREQ=YEARLY;BYMONTH=3;BYDAY=2SU
DTSTART:20070101T000000
TZOFFSETFROM:-0600
TZOFFSETTO:-0500
TZNAME:Central Daylight Time
END:DAYLIGHT
BEGIN:STANDARD
RRULE:FREQ=YEARLY;BYMONTH=11;BYDAY=1SU
DTSTART:20070101T000000
TZOFFSETFROM:-0500
TZOFFSETTO:-0600
TZNAME:Central Standard Time
END:STANDARD
END:VTIMEZONE
BEGIN:VEVENT
DTSTART;TZID=America/Chicago:20260504T120000
DTEND;TZID=America/Chicago:20260504T130000
X-MICROSOFT-CDO-ALLDAYEVENT:FALSE
SUMMARY:FREE Webinar: Crafting a Strong Business
DESCRIPTION:You’re invited to join us for an upcoming virtual webinar designed to help entrepreneurs strengthen their business presence and unlock new opportunities.\n\nCrafting a Strong Business Profile That Wins Opportunities\nPresented by: Louisiana Chamber of Commerce Foundation\n\n📅 Date: May 4\, 2026\n⏰ Time: 12:00 PM – 1:00 PM\n💻 Location: Virtual (Zoom link will be provided upon registration)\n💲 Cost: FREE\n\nThis session will guide entrepreneurs on how to effectively position their business\, build a compelling profile\, and stand out for contracting\, partnerships\, and growth opportunities.\n\nWhether you're just starting or looking to elevate your business visibility\, this webinar will provide practical tools and insights you can use immediately.\n\n👉 Register today to secure your spot!\n\nhttps://louisianachamberofcommercefoundationinc-dev.growthzoneapp.com/calendar/Details/crafting-a-strong-business-profile-that-wins-opportunities-1658430?sourceTypeId=Hub\n\n📲 You can also scan the QR code on the flyer to register.
X-ALT-DESC;FMTTYPE=text/html:You’re invited to join us for an upcoming virtual webinar designed to help entrepreneurs strengthen their business presence and unlock new opportunities.\n\nCrafting a Strong Business Profile That Wins Opportunities\nPresented by: Louisiana Chamber of Commerce Foundation\n\n📅 Date: May 4\, 2026\n⏰ Time: 12:00 PM – 1:00 PM\n💻 Location: Virtual (Zoom link will be provided upon registration)\n💲 Cost: FREE\n\nThis session will guide entrepreneurs on how to effectively position their business\, build a compelling profile\, and stand out for contracting\, partnerships\, and growth opportunities.\n\nWhether you're just starting or looking to elevate your business visibility\, this webinar will provide practical tools and insights you can use immediately.\n\n👉 Register today to secure your spot!\n\nhttps://louisianachamberofcommercefoundationinc-dev.growthzoneapp.com/calendar/Details/crafting-a-strong-business-profile-that-wins-opportunities-1658430?sourceTypeId=Hub\n\n📲 You can also scan the QR code on the flyer to register.
LOCATION:Shreveport LA 71101
UID:e.1972.1443792
SEQUENCE:3
DTSTAMP:20260423T083422Z
URL:https://members.sbaacc.org/event/Details/free-webinar-crafting-a-strong-business-1710038?sourceTypeId=Hub
END:VEVENT
END:VCALENDAR
